BEGIN:VCALENDAR
VERSION:2.0
PRODID:-//Cascade Business Merchant Association - ECPv6.15.18//NONSGML v1.0//EN
CALSCALE:GREGORIAN
METHOD:PUBLISH
X-ORIGINAL-URL:https://cascadebma.com
X-WR-CALDESC:Events for Cascade Business Merchant Association
REFRESH-INTERVAL;VALUE=DURATION:PT1H
X-Robots-Tag:noindex
X-PUBLISHED-TTL:PT1H
BEGIN:VTIMEZONE
TZID:UTC
BEGIN:STANDARD
TZOFFSETFROM:+0000
TZOFFSETTO:+0000
TZNAME:UTC
DTSTART:20220101T000000
END:STANDARD
END:VTIMEZONE
BEGIN:VEVENT
DTSTART;TZID=UTC:20230510T110000
DTEND;TZID=UTC:20230510T120000
DTSTAMP:20260419T140035
CREATED:20231010T001005Z
LAST-MODIFIED:20231010T002832Z
UID:27930-1683716400-1683720000@cascadebma.com
SUMMARY:New Techniques for Cyber Security
DESCRIPTION:Join us with the premier security services agency\, All N One\, as they discuss new techniques for Cyber Security and  Security Services.Click here to view
URL:https://cascadebma.com/event/new-techniques-for-cyber-security/
LOCATION:Virtual Meeting\, Virtual\, WWW\, GA\, 30331\, United States
ATTACH;FMTTYPE=image/png:https://cascadebma.com/wp-content/uploads/Screenshot-2023-10-09-at-7.19.30-PM.png
ORGANIZER;CN="Cascade BMA":MAILTO:info@cascadebma.com
END:VEVENT
BEGIN:VEVENT
DTSTART;TZID=UTC:20230516T110000
DTEND;TZID=UTC:20230516T120000
DTSTAMP:20260419T140035
CREATED:20231010T001321Z
LAST-MODIFIED:20231010T002626Z
UID:27933-1684234800-1684238400@cascadebma.com
SUMMARY:Leave A Legacy
DESCRIPTION:Join us on May 16th for a dynamic topic of How to Leave A Legacy for your Life and Your Business. Lead by Fulton County Probate Judge. Hon Kenya Johnson. Click here to view.
URL:https://cascadebma.com/event/leave-a-legacy/
LOCATION:Virtual Meeting\, Virtual\, WWW\, GA\, 30331\, United States
ATTACH;FMTTYPE=image/png:https://cascadebma.com/wp-content/uploads/Screenshot-2023-10-09-at-7.29.39-PM.png
ORGANIZER;CN="Cascade BMA":MAILTO:info@cascadebma.com
END:VEVENT
BEGIN:VEVENT
DTSTART;TZID=UTC:20230520T080000
DTEND;TZID=UTC:20230520T100000
DTSTAMP:20260419T140035
CREATED:20230111T053326Z
LAST-MODIFIED:20230111T053326Z
UID:26636-1684569600-1684576800@cascadebma.com
SUMMARY:Comunity Clean Up
DESCRIPTION:Please click here to sign up!
URL:https://cascadebma.com/event/comunity-clean-up/
LOCATION:Cascade Road Driving Range\, 3520 Cascade Rd SW\, Atlanta\, GA\, 30331\, United States
CATEGORIES:Cascade Monthly Clean-up
ATTACH;FMTTYPE=image/jpeg:https://cascadebma.com/wp-content/uploads/PICTURE-COmmunity-Clean-Up.jpg
ORGANIZER;CN="Cascade BMA":MAILTO:info@cascadebma.com
END:VEVENT
END:VCALENDAR