BEGIN:VCALENDAR
VERSION:2.0
PRODID:-//Cascade Business Merchant Association - ECPv6.15.18//NONSGML v1.0//EN
CALSCALE:GREGORIAN
METHOD:PUBLISH
X-WR-CALNAME:Cascade Business Merchant Association
X-ORIGINAL-URL:https://cascadebma.com
X-WR-CALDESC:Events for Cascade Business Merchant Association
REFRESH-INTERVAL;VALUE=DURATION:PT1H
X-Robots-Tag:noindex
X-PUBLISHED-TTL:PT1H
BEGIN:VTIMEZONE
TZID:UTC
BEGIN:STANDARD
TZOFFSETFROM:+0000
TZOFFSETTO:+0000
TZNAME:UTC
DTSTART:20220101T000000
END:STANDARD
END:VTIMEZONE
BEGIN:VEVENT
DTSTART;TZID=UTC:20230415T100000
DTEND;TZID=UTC:20230415T130000
DTSTAMP:20260419T123804
CREATED:20231010T004416Z
LAST-MODIFIED:20231010T004416Z
UID:27947-1681552800-1681563600@cascadebma.com
SUMMARY:Spring Beautification Project
DESCRIPTION:Join Councilwoman Dr. Catherine Foster Rowell and Fulton County Commissioner Khadijah Abdur-Rahman for a Spring Beautification Day.
URL:https://cascadebma.com/event/spring-beautification-project/
LOCATION:Evelyn Lowery Library\, 3665 Cascade Road\, SW\, Atlanta\, Georgia\, 30331
ATTACH;FMTTYPE=image/jpeg:https://cascadebma.com/wp-content/uploads/IMG_8123.jpg
END:VEVENT
BEGIN:VEVENT
DTSTART;TZID=UTC:20230415T103000
DTEND;TZID=UTC:20230415T233000
DTSTAMP:20260419T123804
CREATED:20230403T012513Z
LAST-MODIFIED:20230403T012513Z
UID:27899-1681554600-1681601400@cascadebma.com
SUMMARY:Print & Handwriting Workshop
DESCRIPTION:Please join us for Print and Handwriting Workshops for Adults.\nThis program is not only for those needing to learn how to write but also for Adults who have lost the ability to write due to injury and illness.
URL:https://cascadebma.com/event/print-handwriting-workshop/
LOCATION:Evelyn Lowery Library\, 3665 Cascade Road\, SW\, Atlanta\, Georgia\, 30331
ATTACH;FMTTYPE=image/png:https://cascadebma.com/wp-content/uploads/Cascade-Print-and-Handwriting-4.15.223.png
ORGANIZER;CN="Cascade BMA":MAILTO:info@cascadebma.com
END:VEVENT
BEGIN:VEVENT
DTSTART;TZID=UTC:20230422T100000
DTEND;TZID=UTC:20230422T120000
DTSTAMP:20260419T123804
CREATED:20230111T053126Z
LAST-MODIFIED:20230111T053126Z
UID:26634-1682157600-1682164800@cascadebma.com
SUMMARY:Community Clean Up
DESCRIPTION:Please click here to sign up!
URL:https://cascadebma.com/event/community-clean-up-3/
LOCATION:Cascade Road Driving Range\, 3520 Cascade Rd SW\, Atlanta\, GA\, 30331\, United States
CATEGORIES:Cascade Monthly Clean-up
ATTACH;FMTTYPE=image/jpeg:https://cascadebma.com/wp-content/uploads/PICTURE-COmmunity-Clean-Up.jpg
ORGANIZER;CN="Cascade BMA":MAILTO:info@cascadebma.com
END:VEVENT
END:VCALENDAR