BEGIN:VCALENDAR
VERSION:2.0
PRODID:-//Cascade Business Merchant Association - ECPv6.15.18//NONSGML v1.0//EN
CALSCALE:GREGORIAN
METHOD:PUBLISH
X-ORIGINAL-URL:https://cascadebma.com
X-WR-CALDESC:Events for Cascade Business Merchant Association
REFRESH-INTERVAL;VALUE=DURATION:PT1H
X-Robots-Tag:noindex
X-PUBLISHED-TTL:PT1H
BEGIN:VTIMEZONE
TZID:UTC
BEGIN:STANDARD
TZOFFSETFROM:+0000
TZOFFSETTO:+0000
TZNAME:UTC
DTSTART:20220101T000000
END:STANDARD
END:VTIMEZONE
BEGIN:VEVENT
DTSTART;TZID=UTC:20230314T110000
DTEND;TZID=UTC:20230314T133000
DTSTAMP:20260419T135209
CREATED:20231010T001919Z
LAST-MODIFIED:20231010T001919Z
UID:27936-1678791600-1678800600@cascadebma.com
SUMMARY:Women In Leadership
DESCRIPTION:Join us for Women’s month and Women in Leadership in the Restaurant Industry. We have some phenomenal woman on the panel and lead by RICE Award winner\, Michelle Glover.
URL:https://cascadebma.com/event/women-in-leadership/
LOCATION:Virtual Meeting\, Virtual\, WWW\, GA\, 30331\, United States
ATTACH;FMTTYPE=image/png:https://cascadebma.com/wp-content/uploads/Screenshot-2023-10-09-at-8.16.06-PM.png
ORGANIZER;CN="Cascade BMA":MAILTO:info@cascadebma.com
END:VEVENT
END:VCALENDAR